BEGIN:VCALENDAR
VERSION:2.0
PRODID:-//InvisionCommunity Events 4.7.23//EN
METHOD:PUBLISH
CALSCALE:GREGORIAN
REFRESH-INTERVAL:PT15M
X-PUBLISHED-TTL:PT15M
X-WR-CALNAME:Fórum
NAME:Fórum
BEGIN:VTIMEZONE
TZID:Europe/London
TZURL:http://tzurl.org/zoneinfo/Europe/London
X-LIC-LOCATION:Europe/London
BEGIN:DAYLIGHT
TZOFFSETFROM:+0000
TZOFFSETTO:+0100
TZNAME:BST
DTSTART:20100328T020000Z
RRULE:FREQ=YEARLY;BYMONTH=3;BYDAY=-1SU
END:DAYLIGHT
BEGIN:STANDARD
TZOFFSETFROM:+0100
TZOFFSETTO:+0000
TZNAME:GMT
DTSTART:20101031T020000Z
RRULE:FREQ=YEARLY;BYMONTH=10;BYDAY=-1SU
END:STANDARD
END:VTIMEZONE
BEGIN:VEVENT
SUMMARY:Natal
DTSTAMP:20101130T174557Z
SEQUENCE:1
UID:82-3-1c332cf574c08d3b355ef7c08d9c8a62@www.aquariofilia.net
ORGANIZER;CN="João Branquinho":admin@aquariofilia.net
DESCRIPTION:\nFeliz Natal!\n \n \n
DTSTART;VALUE=DATE:20101225
RRULE:FREQ=yearly;INTERVAL=1;UNTIL=20151225T00000Z
END:VEVENT
END:VCALENDAR
